BEGIN:VCALENDAR
VERSION:2.0
PRODID:-//CHARLES CORDELL - ECPv6.15.20//NONSGML v1.0//EN
CALSCALE:GREGORIAN
METHOD:PUBLISH
X-WR-CALNAME:CHARLES CORDELL
X-ORIGINAL-URL:https://charlescordell.com
X-WR-CALDESC:Events for CHARLES CORDELL
REFRESH-INTERVAL;VALUE=DURATION:PT1H
X-Robots-Tag:noindex
X-PUBLISHED-TTL:PT1H
BEGIN:VTIMEZONE
TZID:Europe/London
BEGIN:DAYLIGHT
TZOFFSETFROM:+0000
TZOFFSETTO:+0100
TZNAME:BST
DTSTART:20240331T010000
END:DAYLIGHT
BEGIN:STANDARD
TZOFFSETFROM:+0100
TZOFFSETTO:+0000
TZNAME:GMT
DTSTART:20241027T010000
END:STANDARD
BEGIN:DAYLIGHT
TZOFFSETFROM:+0000
TZOFFSETTO:+0100
TZNAME:BST
DTSTART:20250330T010000
END:DAYLIGHT
BEGIN:STANDARD
TZOFFSETFROM:+0100
TZOFFSETTO:+0000
TZNAME:GMT
DTSTART:20251026T010000
END:STANDARD
BEGIN:DAYLIGHT
TZOFFSETFROM:+0000
TZOFFSETTO:+0100
TZNAME:BST
DTSTART:20260329T010000
END:DAYLIGHT
BEGIN:STANDARD
TZOFFSETFROM:+0100
TZOFFSETTO:+0000
TZNAME:GMT
DTSTART:20261025T010000
END:STANDARD
END:VTIMEZONE
BEGIN:VEVENT
DTSTART;TZID=Europe/London:20250424T190000
DTEND;TZID=Europe/London:20250424T203000
DTSTAMP:20260423T180646
CREATED:20250313T162317Z
LAST-MODIFIED:20250411T184010Z
UID:7113-1745521200-1745526600@charlescordell.com
SUMMARY:Cornish Army in Historical Fiction - Launceston - with author
DESCRIPTION:The Cornish Army in Historical Fiction\nThe Cornish Army in historical fiction – author talk and book signing at Black Cat Books in Launceston. Charles Cordell will be talking about writing historical fiction and Divided Kingdom book #2 – The Keys of Hell and Death. He will describe the background to his books and the exploits of the Cornish Army of 1643. Q&A and a book signing will follow the talk. \nDivided Kingdom – English Civil War fiction series\nCharles Cordell is the author of English Civil War historical fiction series Divided Kingdom. His writing has received praise and editorial reviews from The Times. The likes of Ben Kane (bestselling author)\, David Gilman (award winning author)\, Professor Ronald Hutton CBE (TV historian) and others have given endorsements. \nDivided Kingdom book #2 – The Keys of Hell and Death – follows the Cornish Army of 1643. The story opens with the brutal Battle of Lansdown Hill. Its characters – ordinary men and women – face each other and the terrible reality of war. They must survive the Siege of Devizes\, the Battle of Roundway Down and the ferocious Storming of Bristol in 1643. \nBlack Cat Books – historical fiction in Launceston\nTo join this Cornish Army in historical fiction talk please do check details on the Black Cat Books Ltd Facebook page. If you can\, come along and join the debate. \nIf you can’t make this event\, copies of Charles Cordell’s books are available from Waterstones\, Foyles and good independent bookshops\, including Black Cat Books. They are also available online from Amazon\, Bookshop.org and Booktopia. Please do check out the book pages for reviews and links at Charles Cordell Books. You can also loan copies from UK libraries\, including Cornwall Library Service. \nMore Author Talks\, Book Signings & Battlefield Walks\nFor more author talks\, signings and battlefield walks with Charles Cordell\, please check out Charles Cordell Events. \nIf you think others would like this event\, please click\, share and spread the word via email or your social media:
URL:https://charlescordell.com/event/cornish-army-historical-fiction/
LOCATION:Black Cat Books\, 12 Southgate Place\, Launceston\, Cornwall\, PL15 9DY\, United Kingdom
CATEGORIES:Author Talks & Book Signings
ATTACH;FMTTYPE=image/png:https://charlescordell.com/wp-content/uploads/2025/03/cornish-army-author-launceston.png
END:VEVENT
END:VCALENDAR